BEGIN:VCALENDAR
VERSION:2.0
PRODID:-//AudioTheme 2.3.8
BEGIN:VEVENT
UID:urn:uuid:ed577059-540b-4b80-973e-b299c975070b
URL:https://mitchmcvicker.com/concerts/gig-2542/
DTSTART;VALUE=DATE:20050409
SUMMARY:First Christian Church
LOCATION:First Christian Church\, Beloit\, KS
END:VEVENT
END:VCALENDAR
