BEGIN:VCALENDAR
VERSION:2.0
PRODID:-//AudioTheme 2.3.8
BEGIN:VEVENT
UID:urn:uuid:54430323-8e64-455c-b3aa-531967e38e0c
URL:https://mitchmcvicker.com/concerts/gig-2540/
DTSTART;VALUE=DATE:20050408
SUMMARY:Sonrise Baptist Church
LOCATION:Sonrise Baptist Church\, Sioux Falls\, SD
END:VEVENT
END:VCALENDAR
