BEGIN:VCALENDAR
VERSION:2.0
PRODID:-//AudioTheme 2.3.8
BEGIN:VEVENT
UID:urn:uuid:51615fef-4311-4b5b-88fc-772869e631f2
URL:https://mitchmcvicker.com/concerts/gig-2538/
DTSTART;VALUE=DATE:20050403
SUMMARY:Spring Branch Community Church-Dalecrest Chapel
LOCATION:Spring Branch Community Church-Dalecrest Chapel\, Houston\, TX
END:VEVENT
END:VCALENDAR
