BEGIN:VCALENDAR
VERSION:2.0
PRODID:-//AudioTheme 2.3.8
BEGIN:VEVENT
UID:urn:uuid:0dbc806d-652e-4b40-8708-e367276d52db
URL:https://mitchmcvicker.com/concerts/gig-2536/
DTSTART;VALUE=DATE:20050402
SUMMARY:Pulse Music Event- Calvary Worship Center
LOCATION:Pulse Music Event- Calvary Worship Center\, Austin\, TX
END:VEVENT
END:VCALENDAR
