BEGIN:VCALENDAR
VERSION:2.0
PRODID:-//AudioTheme 2.3.8
BEGIN:VEVENT
UID:urn:uuid:eba16c0a-2b77-4775-b5fa-3a09346b9e81
URL:https://mitchmcvicker.com/concerts/gig-2534/
DTSTART;VALUE=DATE:20050401
SUMMARY:Stonebridge United Methodist Church
LOCATION:Stonebridge United Methodist Church\, McKinney\, TX
END:VEVENT
END:VCALENDAR
