BEGIN:VCALENDAR
VERSION:2.0
PRODID:-//AudioTheme 2.3.8
BEGIN:VEVENT
UID:urn:uuid:e566c02a-f9ee-4daa-8b42-03cfdd12baef
URL:https://mitchmcvicker.com/concerts/gig-2533/
DTSTART;VALUE=DATE:20050320
SUMMARY:Cornerstone Church
LOCATION:Cornerstone Church\, Zearing\, IA
END:VEVENT
END:VCALENDAR
