BEGIN:VCALENDAR
VERSION:2.0
PRODID:-//AudioTheme 2.3.8
BEGIN:VEVENT
UID:urn:uuid:6456ae5a-ebf7-4c5a-9e89-a6262d6b4455
URL:https://mitchmcvicker.com/concerts/gig-2529/
DTSTART;VALUE=DATE:20050317
SUMMARY:Rocky Mountain College-Losekamp Hall
LOCATION:Rocky Mountain College-Losekamp Hall\, Billings\, MT
END:VEVENT
END:VCALENDAR
