BEGIN:VCALENDAR
VERSION:2.0
PRODID:-//AudioTheme 2.3.8
BEGIN:VEVENT
UID:urn:uuid:e3eb468a-2071-4043-a5ef-00a90d26a9c6
URL:https://mitchmcvicker.com/concerts/gig-2527/
DTSTART;VALUE=DATE:20050313
SUMMARY:American Reformed Church
LOCATION:American Reformed Church\, Worthington\, MN
END:VEVENT
END:VCALENDAR
