BEGIN:VCALENDAR
VERSION:2.0
PRODID:-//AudioTheme 2.3.8
BEGIN:VEVENT
UID:urn:uuid:79b2b907-183b-4b83-ac04-3c2ba162566b
URL:https://mitchmcvicker.com/concerts/gig-2525/
DTSTART;VALUE=DATE:20050312
SUMMARY:Cross Roads Church- A Benefit for "Touch of Home"
LOCATION:Cross Roads Church- A Benefit for "Touch of Home"\, Cottage Grove\, MN
END:VEVENT
END:VCALENDAR
