BEGIN:VCALENDAR
VERSION:2.0
PRODID:-//AudioTheme 2.3.8
BEGIN:VEVENT
UID:urn:uuid:419f8832-1d55-4b4e-9fd6-46aa6f1dcd99
URL:https://mitchmcvicker.com/concerts/gig-2523/
DTSTART;VALUE=DATE:20050311
SUMMARY:Immanuel Baptist Church
LOCATION:Immanuel Baptist Church\, Kingsford\, MI
END:VEVENT
END:VCALENDAR
