BEGIN:VCALENDAR
VERSION:2.0
PRODID:-//AudioTheme 2.3.8
BEGIN:VEVENT
UID:urn:uuid:ccfd4d8e-3662-4c5c-8645-e0649d5c3562
URL:https://mitchmcvicker.com/concerts/gig-2522/
DTSTART;VALUE=DATE:20050306
SUMMARY:Riverwood Community Church
LOCATION:Riverwood Community Church\, Burlington\, WI
END:VEVENT
END:VCALENDAR
