BEGIN:VCALENDAR
VERSION:2.0
PRODID:-//AudioTheme 2.3.8
BEGIN:VEVENT
UID:urn:uuid:89204c18-f883-4b08-af03-0eaf89595496
URL:https://mitchmcvicker.com/concerts/gig-2519/
DTSTART;VALUE=DATE:20050305
SUMMARY:Lighthouse Cafe
LOCATION:Lighthouse Cafe\, Rockford\, IL
END:VEVENT
END:VCALENDAR
