BEGIN:VCALENDAR
VERSION:2.0
PRODID:-//AudioTheme 2.3.8
BEGIN:VEVENT
UID:urn:uuid:d5d5374c-cf9a-4f5a-bf5a-65da0bec09d6
URL:https://mitchmcvicker.com/concerts/gig-2516/
DTSTART;VALUE=DATE:20050303
SUMMARY:Countryside Christian Church
LOCATION:Countryside Christian Church\, Michigan City\, IN
END:VEVENT
END:VCALENDAR
