BEGIN:VCALENDAR
VERSION:2.0
PRODID:-//AudioTheme 2.3.8
BEGIN:VEVENT
UID:urn:uuid:87993145-04a4-4e4e-a9bd-aa287e89d75b
URL:https://mitchmcvicker.com/concerts/gig-2512/
DTSTART;VALUE=DATE:20050226
SUMMARY:West Independence United Methodist Church
LOCATION:West Independence United Methodist Church\, Fostoria\, OH
END:VEVENT
END:VCALENDAR
