BEGIN:VCALENDAR
VERSION:2.0
PRODID:-//AudioTheme 2.3.8
BEGIN:VEVENT
UID:urn:uuid:c8d9c240-4ed3-4b61-941b-f9a65123acab
URL:https://mitchmcvicker.com/concerts/gig-2510/
DTSTART;VALUE=DATE:20050225
SUMMARY:Kentwood Christian Church
LOCATION:Kentwood Christian Church\, Kentwood\, MI
END:VEVENT
END:VCALENDAR
