BEGIN:VCALENDAR
VERSION:2.0
PRODID:-//AudioTheme 2.3.8
BEGIN:VEVENT
UID:urn:uuid:958725eb-9775-4335-903c-925fc1bd3fc6
URL:https://mitchmcvicker.com/concerts/gig-2508/
DTSTART;VALUE=DATE:20050223
SUMMARY:Bethel College Chapel
LOCATION:Bethel College Chapel\, Mishawaka\, IN
END:VEVENT
END:VCALENDAR
