BEGIN:VCALENDAR
VERSION:2.0
PRODID:-//AudioTheme 2.3.8
BEGIN:VEVENT
UID:urn:uuid:cb6f7331-1413-4e7f-9181-4e0e430eb1aa
URL:https://mitchmcvicker.com/concerts/gig-2504/
DTSTART;VALUE=DATE:20050220
SUMMARY:Prince of Peace Lutheran Church
LOCATION:Prince of Peace Lutheran Church\, Palatine\, IL
END:VEVENT
END:VCALENDAR
