BEGIN:VCALENDAR
VERSION:2.0
PRODID:-//AudioTheme 2.3.8
BEGIN:VEVENT
UID:urn:uuid:66a522d3-e5f8-4097-9e27-03fbe175ba31
URL:https://mitchmcvicker.com/concerts/gig-2500/
DTSTART;VALUE=DATE:20050130
SUMMARY:Grace Harbor Baptist Church
LOCATION:Grace Harbor Baptist Church\, Derby\, KS
END:VEVENT
END:VCALENDAR
