BEGIN:VCALENDAR
VERSION:2.0
PRODID:-//AudioTheme 2.3.8
BEGIN:VEVENT
UID:urn:uuid:aadb1497-e683-4bc0-a7e1-e48dce00cb29
URL:https://mitchmcvicker.com/concerts/gig-2498/
DTSTART;VALUE=DATE:20050129
SUMMARY:Cornerstone Family Church
LOCATION:Cornerstone Family Church\, Pittsburg\, KS
END:VEVENT
END:VCALENDAR
