BEGIN:VCALENDAR
VERSION:2.0
PRODID:-//AudioTheme 2.3.8
BEGIN:VEVENT
UID:urn:uuid:c176465d-7542-4991-8057-2793fc427807
URL:https://mitchmcvicker.com/concerts/gig-2495/
DTSTART;VALUE=DATE:20061206
SUMMARY:Caprock Springs Fellowship
LOCATION:Caprock Springs Fellowship\, 315 N Ave H\, Post\, TX
END:VEVENT
END:VCALENDAR
