BEGIN:VCALENDAR
VERSION:2.0
PRODID:-//AudioTheme 2.3.8
BEGIN:VEVENT
UID:urn:uuid:b85f36b8-f480-4d57-bb3d-8dddfc8c42aa
URL:https://mitchmcvicker.com/concerts/gig-2493/
DTSTART;VALUE=DATE:20061205
SUMMARY:The Mission
LOCATION:The Mission\, Abilene\, TX
END:VEVENT
END:VCALENDAR
