BEGIN:VCALENDAR
VERSION:2.0
PRODID:-//AudioTheme 2.3.8
BEGIN:VEVENT
UID:urn:uuid:39f93188-a696-47ab-9dee-b2a3e73df892
URL:https://mitchmcvicker.com/concerts/gig-2491/
DTSTART;VALUE=DATE:20061204
SUMMARY:Bill's Backyard
LOCATION:Bill's Backyard\, Manchaca\, TX
END:VEVENT
END:VCALENDAR
