BEGIN:VCALENDAR
VERSION:2.0
PRODID:-//AudioTheme 2.3.8
BEGIN:VEVENT
UID:urn:uuid:d4994743-fa5f-458f-911b-44bfab72b142
URL:https://mitchmcvicker.com/concerts/gig-2490/
DTSTART;VALUE=DATE:20061203
SUMMARY:Calvary Chapel
LOCATION:Calvary Chapel\, Norman\, OK
END:VEVENT
END:VCALENDAR
