BEGIN:VCALENDAR
VERSION:2.0
PRODID:-//AudioTheme 2.3.8
BEGIN:VEVENT
UID:urn:uuid:a4a56529-588b-4b45-b62b-ea51df68de13
URL:https://mitchmcvicker.com/concerts/gig-2486/
DTSTART;VALUE=DATE:20061104
SUMMARY:Duncan Methodist Church
LOCATION:Duncan Methodist Church\, Georgetown\, SC
END:VEVENT
END:VCALENDAR
