BEGIN:VCALENDAR
VERSION:2.0
PRODID:-//AudioTheme 2.3.8
BEGIN:VEVENT
UID:urn:uuid:2a01af1c-b8aa-4ffd-b68c-77eb9b277523
URL:https://mitchmcvicker.com/concerts/gig-2484/
DTSTART;VALUE=DATE:20061119
SUMMARY:Battle Creek Friends Church
LOCATION:Battle Creek Friends Church\, Battle Creek\, MI
END:VEVENT
END:VCALENDAR
