BEGIN:VCALENDAR
VERSION:2.0
PRODID:-//AudioTheme 2.3.8
BEGIN:VEVENT
UID:urn:uuid:1af667ba-b7fb-4915-97ba-f80c284a4509
URL:https://mitchmcvicker.com/concerts/gig-2482/
DTSTART;VALUE=DATE:20061119
SUMMARY:Freedom Moravian Church
LOCATION:Freedom Moravian Church\, Appleton\, WI
END:VEVENT
END:VCALENDAR
