BEGIN:VCALENDAR
VERSION:2.0
PRODID:-//AudioTheme 2.3.8
BEGIN:VEVENT
UID:urn:uuid:ca11cdf9-834d-4729-8f9f-932c4a32b2c4
URL:https://mitchmcvicker.com/concerts/gig-2481/
DTSTART;VALUE=DATE:20061118
SUMMARY:Cup O'Joy Coffeehouse
LOCATION:Cup O'Joy Coffeehouse\, Green Bay\, WI
END:VEVENT
END:VCALENDAR
