BEGIN:VCALENDAR
VERSION:2.0
PRODID:-//AudioTheme 2.3.8
BEGIN:VEVENT
UID:urn:uuid:9fbf4f99-4b61-408b-a7f2-133b83947748
URL:https://mitchmcvicker.com/concerts/gig-2475/
DTSTART;VALUE=DATE:20061112
SUMMARY:Metrobrook Church
LOCATION:Metrobrook Church\, Milwaukee\, WI
END:VEVENT
END:VCALENDAR
