BEGIN:VCALENDAR
VERSION:2.0
PRODID:-//AudioTheme 2.3.8
BEGIN:VEVENT
UID:urn:uuid:c23f8f9f-f506-4ebd-b1a2-21c7894aded3
URL:https://mitchmcvicker.com/concerts/gig-2473/
DTSTART;VALUE=DATE:20061105
SUMMARY:Harvest Baptist Church
LOCATION:Harvest Baptist Church\, Burlington\, NC
END:VEVENT
END:VCALENDAR
