BEGIN:VCALENDAR
VERSION:2.0
PRODID:-//AudioTheme 2.3.8
BEGIN:VEVENT
UID:urn:uuid:287ac3ee-3d46-443a-9352-1e2102eb680b
URL:https://mitchmcvicker.com/concerts/gig-2471/
DTSTART;VALUE=DATE:20061101
SUMMARY:Berryton United Methodist Church
LOCATION:Berryton United Methodist Church\, Berryton\, KS
END:VEVENT
END:VCALENDAR
