BEGIN:VCALENDAR
VERSION:2.0
PRODID:-//AudioTheme 2.3.8
BEGIN:VEVENT
UID:urn:uuid:3c3e96b5-3aaf-45c6-be8b-17fee987db50
URL:https://mitchmcvicker.com/concerts/gig-2470/
DTSTART;VALUE=DATE:20061031
SUMMARY:Ozark Christian College
LOCATION:Ozark Christian College\, Joplin\, MO
END:VEVENT
END:VCALENDAR
