BEGIN:VCALENDAR
VERSION:2.0
PRODID:-//AudioTheme 2.3.8
BEGIN:VEVENT
UID:urn:uuid:e560a400-1405-4322-82c4-fc16e7799334
URL:https://mitchmcvicker.com/concerts/gig-2466/
DTSTART;VALUE=DATE:20061029
SUMMARY:Woodland Lake Community Church
LOCATION:Woodland Lake Community Church\, Wichita\, KS
END:VEVENT
END:VCALENDAR
