BEGIN:VCALENDAR
VERSION:2.0
PRODID:-//AudioTheme 2.3.8
BEGIN:VEVENT
UID:urn:uuid:03aad23d-4dad-4a3b-ba29-bad6af8c93a9
URL:https://mitchmcvicker.com/concerts/gig-2464/
DTSTART;VALUE=DATE:20061028
SUMMARY:First Congregational Church
LOCATION:First Congregational Church\, Topeka\, KS
END:VEVENT
END:VCALENDAR
