BEGIN:VCALENDAR
VERSION:2.0
PRODID:-//AudioTheme 2.3.8
BEGIN:VEVENT
UID:urn:uuid:dde67b49-e323-4e98-833d-a5b5eece61c3
URL:https://mitchmcvicker.com/concerts/gig-2462/
DTSTART;VALUE=DATE:20061026
SUMMARY:Beautiful Savior Lutheran Church
LOCATION:Beautiful Savior Lutheran Church\, Olathe\, KS
END:VEVENT
END:VCALENDAR
