BEGIN:VCALENDAR
VERSION:2.0
PRODID:-//AudioTheme 2.3.8
BEGIN:VEVENT
UID:urn:uuid:6b7c8b84-c26f-4e36-be9b-3f59653695a4
URL:https://mitchmcvicker.com/concerts/gig-2460/
DTSTART;VALUE=DATE:20061020
SUMMARY:Christian Worship Center
LOCATION:Christian Worship Center\, Barrington\, NH
END:VEVENT
END:VCALENDAR
