BEGIN:VCALENDAR
VERSION:2.0
PRODID:-//AudioTheme 2.3.8
BEGIN:VEVENT
UID:urn:uuid:a8efe85e-0ba6-482e-858b-b29598fbae6a
URL:https://mitchmcvicker.com/concerts/gig-2458/
DTSTART;VALUE=DATE:20061018
SUMMARY:Otterbein United Methodist Church
LOCATION:Otterbein United Methodist Church\, Duncannon\, PA
END:VEVENT
END:VCALENDAR
