BEGIN:VCALENDAR
VERSION:2.0
PRODID:-//AudioTheme 2.3.8
BEGIN:VEVENT
UID:urn:uuid:1357ed35-1f8b-4271-b160-8f1423176e94
URL:https://mitchmcvicker.com/concerts/gig-2456/
DTSTART;VALUE=DATE:20061015
SUMMARY:First Presbyterian Church
LOCATION:First Presbyterian Church\, Lambertville\, NJ
END:VEVENT
END:VCALENDAR
