BEGIN:VCALENDAR
VERSION:2.0
PRODID:-//AudioTheme 2.3.8
BEGIN:VEVENT
UID:urn:uuid:c594843b-c1ec-4b5d-8008-4968889e6dc2
URL:https://mitchmcvicker.com/concerts/gig-2455/
DTSTART;VALUE=DATE:20061015
SUMMARY:Calvary Chapel
LOCATION:Calvary Chapel\, Uncasville\, CT
END:VEVENT
END:VCALENDAR
