BEGIN:VCALENDAR
VERSION:2.0
PRODID:-//AudioTheme 2.3.8
BEGIN:VEVENT
UID:urn:uuid:6ff6ec50-f1c3-4175-a5f3-05ddcfb010ec
URL:https://mitchmcvicker.com/concerts/gig-2451/
DTSTART;VALUE=DATE:20061013
SUMMARY:Christian Mocha Latte Cornerstone Cafe-West, Fairmont Free Methodist Church
LOCATION:Christian Mocha Latte Cornerstone Cafe-West\, Fairmont Free Methodist Church\, Syracuse\, NY
END:VEVENT
END:VCALENDAR
