BEGIN:VCALENDAR
VERSION:2.0
PRODID:-//AudioTheme 2.3.8
BEGIN:VEVENT
UID:urn:uuid:5851e46b-e5be-4209-863c-2bbabb7a50f2
URL:https://mitchmcvicker.com/concerts/gig-2450/
DTSTART;VALUE=DATE:20061012
SUMMARY:Blessed Sacrament Church
LOCATION:Blessed Sacrament Church\, 263 Claremont Ave\, Tonawanda\, NY
END:VEVENT
END:VCALENDAR
