BEGIN:VCALENDAR
VERSION:2.0
PRODID:-//AudioTheme 2.3.8
BEGIN:VEVENT
UID:urn:uuid:0ea4095b-43e9-48fe-a55c-cc2b5277dfb9
URL:https://mitchmcvicker.com/concerts/gig-2448/
DTSTART;VALUE=DATE:20061011
SUMMARY:Spring Arbor University
LOCATION:Spring Arbor University\, Spring Arbor\, MI
END:VEVENT
END:VCALENDAR
