BEGIN:VCALENDAR
VERSION:2.0
PRODID:-//AudioTheme 2.3.8
BEGIN:VEVENT
UID:urn:uuid:5d0111ba-e9a2-469a-9997-7ae3cd1298d9
URL:https://mitchmcvicker.com/concerts/gig-2445/
DTSTART;VALUE=DATE:20061007
SUMMARY:Maple City Baptist
LOCATION:Maple City Baptist\, Monmouth\, IL
END:VEVENT
END:VCALENDAR
