BEGIN:VCALENDAR
VERSION:2.0
PRODID:-//AudioTheme 2.3.8
BEGIN:VEVENT
UID:urn:uuid:04b013fb-9296-46b8-a108-bdc7a33d8d1e
URL:https://mitchmcvicker.com/concerts/gig-2442/
DTSTART;VALUE=DATE:20061005
SUMMARY:Community Bible Church
LOCATION:Community Bible Church\, Washington\, IL
END:VEVENT
END:VCALENDAR
