BEGIN:VCALENDAR
VERSION:2.0
PRODID:-//AudioTheme 2.3.8
BEGIN:VEVENT
UID:urn:uuid:866f1760-822e-4c81-83e6-32fcb91b6051
URL:https://mitchmcvicker.com/concerts/gig-2441/
DTSTART;VALUE=DATE:20061001
SUMMARY:Sycamore Tree Church
LOCATION:Sycamore Tree Church\, Steubenville\, OH
END:VEVENT
END:VCALENDAR
