BEGIN:VCALENDAR
VERSION:2.0
PRODID:-//AudioTheme 2.3.8
BEGIN:VEVENT
UID:urn:uuid:e5cf431c-6e07-4293-9349-f58335154a80
URL:https://mitchmcvicker.com/concerts/gig-2437/
DTSTART;VALUE=DATE:20060923
SUMMARY:Batesville Church of Christ
LOCATION:Batesville Church of Christ\, Batesville\, IN
END:VEVENT
END:VCALENDAR
