BEGIN:VCALENDAR
VERSION:2.0
PRODID:-//AudioTheme 2.3.8
BEGIN:VEVENT
UID:urn:uuid:b5035aa6-b077-4008-baad-a65d60741f04
URL:https://mitchmcvicker.com/concerts/gig-2435/
DTSTART;VALUE=DATE:20060930
SUMMARY:Holton Community Building
LOCATION:Holton Community Building\, Holton\, IN
END:VEVENT
END:VCALENDAR
