BEGIN:VCALENDAR
VERSION:2.0
PRODID:-//AudioTheme 2.3.8
BEGIN:VEVENT
UID:urn:uuid:b7d1650c-c5c6-4332-a865-59e38aaf03fa
URL:https://mitchmcvicker.com/concerts/gig-2433/
DTSTART;VALUE=DATE:20060929
SUMMARY:Center Grove High School Auditorium
LOCATION:Center Grove High School Auditorium\, Greenwood\, IN
END:VEVENT
END:VCALENDAR
