BEGIN:VCALENDAR
VERSION:2.0
PRODID:-//AudioTheme 2.3.8
BEGIN:VEVENT
UID:urn:uuid:bc06c0fe-cd45-4d98-86f6-5dbd25494e05
URL:https://mitchmcvicker.com/concerts/gig-2431/
DTSTART;VALUE=DATE:20060928
SUMMARY:Waynesburg College Performing Arts Center
LOCATION:Waynesburg College Performing Arts Center\, Waynesburg\, PA
END:VEVENT
END:VCALENDAR
