BEGIN:VCALENDAR
VERSION:2.0
PRODID:-//AudioTheme 2.3.8
BEGIN:VEVENT
UID:urn:uuid:c4b76bfe-b48c-4fa0-adaa-fce4b75b061d
URL:https://mitchmcvicker.com/concerts/gig-2429/
DTSTART;VALUE=DATE:20060927
SUMMARY:The Pumpkin Show
LOCATION:The Pumpkin Show\, Versailles\, IN
END:VEVENT
END:VCALENDAR
