BEGIN:VCALENDAR
VERSION:2.0
PRODID:-//AudioTheme 2.3.8
BEGIN:VEVENT
UID:urn:uuid:61d935a2-3903-4724-b96e-515c4a86f89c
URL:https://mitchmcvicker.com/concerts/gig-2427/
DTSTART;VALUE=DATE:20060924
SUMMARY:Highland Hills Baptist Church
LOCATION:Highland Hills Baptist Church\, Fort Thomas\, KY
END:VEVENT
END:VCALENDAR
